BEGIN:VCALENDAR
VERSION:2.0
PRODID:-//BLISS INTERNATIONAL SCHOOL - ECPv6.6.3//NONSGML v1.0//EN
CALSCALE:GREGORIAN
METHOD:PUBLISH
X-WR-CALNAME:BLISS INTERNATIONAL SCHOOL
X-ORIGINAL-URL:https://blissinternationalschool.org
X-WR-CALDESC:Events for BLISS INTERNATIONAL SCHOOL
REFRESH-INTERVAL;VALUE=DURATION:PT1H
X-Robots-Tag:noindex
X-PUBLISHED-TTL:PT1H
BEGIN:VTIMEZONE
TZID:UTC
BEGIN:STANDARD
TZOFFSETFROM:+0000
TZOFFSETTO:+0000
TZNAME:UTC
DTSTART:20210101T000000
END:STANDARD
END:VTIMEZONE
BEGIN:VEVENT
DTSTART;TZID=UTC:20210531T072842
DTEND;TZID=UTC:20230912T170000
DTSTAMP:20260420T034334
CREATED:20190807T141922Z
LAST-MODIFIED:20190807T141922Z
UID:219-1622446122-1694538000@blissinternationalschool.org
SUMMARY:Meet Hult in Monterrey
DESCRIPTION:You are invited to meet a Director of Enrollment for Latin America for a personal consultation. \nThis consultation is a key development step in the application process. We will take the time to discuss important elements that include:
URL:https://blissinternationalschool.org/event/meet-hult-in-monterrey/
LOCATION:Our Philosophy
END:VEVENT
END:VCALENDAR